BEGIN:VCALENDAR
VERSION:2.0
PRODID:-//Der Bergfritzenhof - ECPv6.15.20//NONSGML v1.0//EN
CALSCALE:GREGORIAN
METHOD:PUBLISH
X-WR-CALNAME:Der Bergfritzenhof
X-ORIGINAL-URL:https://bergfritzenhof.de
X-WR-CALDESC:Veranstaltungen für Der Bergfritzenhof
REFRESH-INTERVAL;VALUE=DURATION:PT1H
X-Robots-Tag:noindex
X-PUBLISHED-TTL:PT1H
BEGIN:VTIMEZONE
TZID:UTC
BEGIN:STANDARD
TZOFFSETFROM:+0000
TZOFFSETTO:+0000
TZNAME:UTC
DTSTART:20250101T000000
END:STANDARD
END:VTIMEZONE
BEGIN:VEVENT
DTSTART;TZID=UTC:20260222T100000
DTEND;TZID=UTC:20260222T180000
DTSTAMP:20260419T171307
CREATED:20260202T131420Z
LAST-MODIFIED:20260202T131420Z
UID:1621-1771754400-1771783200@bergfritzenhof.de
SUMMARY:Achtsamkeitstag der Earthholder auf dem Bergfritzenhof
DESCRIPTION:Gemeinsam durch die Zeiten des Wandels – Achtsamkeitstag der Earthholder Freiburg \nTobias vom Bergfritzenhof organisiert zusammen mit den „Earthholdern“ aus Freiburg einen „Tag der Achtsamkeit“ am Hof. \nEin Gruppenangebot zur Stärkung emotionaler Reife im Umgang mit den Krisen unserer Zeit. 1 Tag – 1 Kreis – Raum für Natur\, Verbundenheit\, Stille und Lebensfreude “When you wake up and you see that the Earth is not just the environment\, the Earth is us\, you touch the nature of interbeing.” ― Thich Nhat Hanh\, Zen and the Art of Saving the Planet \nIn einer Welt\, die sich im Umbruch befindet\, spüren viele von uns Sorge\, Ohnmacht oder Erschöpfung angesichts von Klimawandel\, Geopolitik oder gesellschaftlicher Spaltung. Dieser Tag lädt dazu ein\, uns unseren Gefühlen zuzuwenden\, unsere Verbundenheit zur Welt und uns selbt wiederzuentdecke – und daraus neue Kraft zu schöpfen. \n Was dich erwartet:\nGemeinsam mit Anderen gehen wir in Miteinander in Kontakt und geben dem Raum\, was uns innerlich bewegt. Wir nehmen uns Zeit für Stille beim gemeinsamen Sitzen\, Liegen und Gehen in der Natur und im Seminarraum sowie für persönlichen Austausch mit Anderen. Und wir nehmen Kontakt auf mit unserem inneren Erleben\, mit dem\, was uns trägt und lebendig macht. \n Für wen?\nFür alle\, die einen Tag innehalten und Kraft schöpfen möchten. Für Klimabewegte\, ehrenamtlich Engagierte\, Besorgte und Lebensfrohe – alle\, die in diesen herausfordernden Zeiten Raum für Achtsamkeit\, Stille und tiefe Begegnung in Gemeinschaft suchen. Alter\, Herkunft und Vorerfahrung spielen keine Rolle – du bist willkommen\, so wie du bist. \n Ort:\nBergfritzenhof\, Gutenrode 1\, 79348 Freiamt Anreise: ÖPNV (Haltestelle ”Gutenrode” und dann laufen)\, Fahrrad (Ebike: 1.5h von Freiburg) oder Auto (40min von Freiburg). \n Termin:\n22.2.2026 10:00 – 18:00 nach derzeitiger Planung \n Teilnahme:\nNach der Tradition des Dana bitten wir um eine Spende nach Selbsteinschätzung. Max. 15 Teilnehmende – wir vergeben die Plätze nach Eingang der Anmeldungen. \nWer sind die Earthholder?\nDie Earthholder ist eine Initiative\, die aus der Intersein (Thich Nath Hanh)-Community hervorgegangen ist. Für weitere Infos besuche die Webseite der Earthholder: https://earthholderde.wordpress.com \nFragen:\nDirekt per PN an Nicole oder Tobias oder per Email an Tobias: info@tobiasmaerz.de \nIn Verbundenheit! \nNicole Weydmann und Tobias März für die Earthholder Freiburg \n  \nLink für die Anmeldung: \nhttps://cryptpad.fr/form/#/2/form/view/Pzf8jq8KZjf6qtv8ivZrD2c8K6VbX1Y8dVqLBt5K80k/ (Anmeldung nötig\, Plätze begrenzt) \n  \n 
URL:https://bergfritzenhof.de/event/achtsamkeitstag-der-earthholder-auf-dem-bergfritzenhof/
LOCATION:Waldraum e.V.\, Gutenrode 1\, Freiamt\, Baden-Württemberg\, 79348\, Deutschland
ATTACH;FMTTYPE=image/webp:https://bergfritzenhof.de/wp-content/uploads/2026/02/earthholder.png.webp
END:VEVENT
BEGIN:VEVENT
DTSTART;TZID=UTC:20260227T193000
DTEND;TZID=UTC:20260227T210000
DTSTAMP:20260419T171307
CREATED:20260124T180829Z
LAST-MODIFIED:20260124T182308Z
UID:1612-1772220600-1772226000@bergfritzenhof.de
SUMMARY:Wohnzimmerkonzert mit Singer-Songwriterin Addis Buchanan
DESCRIPTION:Addis Buchanan – Live am Bergfritzenhof \nFr\, 27.02.2026 | 19:30 \nSoli | 10-15€ \n  \nUnsere Freundin Addis Buchanan aus Freiburg macht ein Wohnzimmer-Konzert bei uns am Bergfritzenhof. Freut euch auf Singer-Songwriter-Musik und Reggae auf Deutsch und Englisch – eigene Lieder die berühren\, bewegen\, verändern…voller Gefühle und Humor! \n  \nWebsite: https://www.diverse-harmonies.com \nTeaser: https://youtu.be/1JgHbsinTVo⁩
URL:https://bergfritzenhof.de/event/wohnzimmerkonzert-mit-singer-songwriterin-addis-buchanan/
LOCATION:Waldraum e.V.\, Gutenrode 1\, Freiamt\, Baden-Württemberg\, 79348\, Deutschland
CATEGORIES:Bergfritzenhof-Veranstaltungen
ATTACH;FMTTYPE=image/jpeg:https://bergfritzenhof.de/wp-content/uploads/2026/01/Addis-Buchanan-in-Concert-@-BFH.jpg
ORGANIZER;CN="Waldraum e.V.":MAILTO:test test
END:VEVENT
END:VCALENDAR