BEGIN:VCALENDAR
VERSION:2.0
PRODID:-//Der Bergfritzenhof - ECPv6.15.20//NONSGML v1.0//EN
CALSCALE:GREGORIAN
METHOD:PUBLISH
X-WR-CALNAME:Der Bergfritzenhof
X-ORIGINAL-URL:https://bergfritzenhof.de
X-WR-CALDESC:Veranstaltungen für Der Bergfritzenhof
REFRESH-INTERVAL;VALUE=DURATION:PT1H
X-Robots-Tag:noindex
X-PUBLISHED-TTL:PT1H
BEGIN:VTIMEZONE
TZID:UTC
BEGIN:STANDARD
TZOFFSETFROM:+0000
TZOFFSETTO:+0000
TZNAME:UTC
DTSTART:20240101T000000
END:STANDARD
END:VTIMEZONE
BEGIN:VEVENT
DTSTART;TZID=UTC:20251214T100000
DTEND;TZID=UTC:20251214T173000
DTSTAMP:20260419T202232
CREATED:20251111T131803Z
LAST-MODIFIED:20251202T123443Z
UID:1560-1765706400-1765733400@bergfritzenhof.de
SUMMARY:WINTER NATUR PLAYFIGHT
DESCRIPTION:DEIN RITUAL ZUM JAHRESENDE \nAM 14. DEZEMBER 2025 \nVON 10:00 BIS CA. 17:30 UHR\nBERGFRITZENHOF FREIAMT \nENTDECKE DIE TRANSFORMATIVE KRAFT DES\nWINTERS\, DER NATUR UND DES PLAYFIGHTS \nFrühbucher-Preis 60€ \nANMELDUNG & MEHR INFOS:\nWWW.BJOERN-MUNDINGER.NET/WINTERPLAY
URL:https://bergfritzenhof.de/event/winter-natur-playfight/
CATEGORIES:Waldraum-Angebote
ATTACH;FMTTYPE=image/jpeg:https://bergfritzenhof.de/wp-content/uploads/2025/11/photo_2025-11-11-14.11.28.jpeg
END:VEVENT
END:VCALENDAR