BEGIN:VCALENDAR
VERSION:2.0
PRODID:-//Der Bergfritzenhof - ECPv6.15.20//NONSGML v1.0//EN
CALSCALE:GREGORIAN
METHOD:PUBLISH
X-WR-CALNAME:Der Bergfritzenhof
X-ORIGINAL-URL:https://bergfritzenhof.de
X-WR-CALDESC:Veranstaltungen für Der Bergfritzenhof
REFRESH-INTERVAL;VALUE=DURATION:PT1H
X-Robots-Tag:noindex
X-PUBLISHED-TTL:PT1H
BEGIN:VTIMEZONE
TZID:UTC
BEGIN:STANDARD
TZOFFSETFROM:+0000
TZOFFSETTO:+0000
TZNAME:UTC
DTSTART:20250101T000000
END:STANDARD
END:VTIMEZONE
BEGIN:VEVENT
DTSTART;TZID=UTC:20260514T140000
DTEND;TZID=UTC:20260517T170000
DTSTAMP:20260419T165030
CREATED:20240119T105517Z
LAST-MODIFIED:20260205T144051Z
UID:1281-1778767200-1779037200@bergfritzenhof.de
SUMMARY:SOLOZEIT - kleine Form der Visionssuche
DESCRIPTION:Innehalten in der Natur. Atem holen. Zur Ruhe kommen. Deinem inneren Erleben Raum geben. \nWonach sehnt sich etwas in Dir gerade – jenseits von Alltag\, Rollen und Erwartungen? \nBist Du bereit\, still zu werden\, durchzuatmen und wirklich bei Dir anzukommen? \n24 Stunden im Wald.\nAlleine. Still. Wach. Echt. \nLeitung: Isabell Neu\, Berufungscoachin und Visionssucheleiterin\, gemeinsam mit \nUte Maria Heilmann – www.wegedesherzens.de \nSeminargebühr: 570\,- bis 720\,- € (Selbsteinschätzung)\nKost und Logis: 160\,- €. \nRatenzahlung möglich · Sprich mich an\, wenn finanzielle Gründe Dich zurückhalten. \n\n\nSetting: 6-10 Teilnehmer*innen \nweitere Infos: \nSOLOZEIT – kleine Form der Visionssuche \n \nAnmeldung: \ninfo@isabellneu.de
URL:https://bergfritzenhof.de/event/solozeit-kleine-form-der-visionssuche/
LOCATION:Waldraum e.V.\, Gutenrode 1\, Freiamt\, Baden-Württemberg\, 79348\, Deutschland
CATEGORIES:Waldraum-Angebote
ATTACH;FMTTYPE=image/jpeg:https://bergfritzenhof.de/wp-content/uploads/2024/01/SOLOZEIT-kleine-Form-der-Visionssuche3.jpg
END:VEVENT
END:VCALENDAR