BEGIN:VCALENDAR
VERSION:2.0
PRODID:-//Der Bergfritzenhof - ECPv6.15.20//NONSGML v1.0//EN
CALSCALE:GREGORIAN
METHOD:PUBLISH
X-ORIGINAL-URL:https://bergfritzenhof.de
X-WR-CALDESC:Veranstaltungen für Der Bergfritzenhof
REFRESH-INTERVAL;VALUE=DURATION:PT1H
X-Robots-Tag:noindex
X-PUBLISHED-TTL:PT1H
BEGIN:VTIMEZONE
TZID:UTC
BEGIN:STANDARD
TZOFFSETFROM:+0000
TZOFFSETTO:+0000
TZNAME:UTC
DTSTART:20250101T000000
END:STANDARD
END:VTIMEZONE
BEGIN:VEVENT
DTSTART;TZID=UTC:20260301T100000
DTEND;TZID=UTC:20260301T170000
DTSTAMP:20260419T171134
CREATED:20260203T140812Z
LAST-MODIFIED:20260203T140812Z
UID:1627-1772359200-1772384400@bergfritzenhof.de
SUMMARY:Baumpflanzaktion zum Mitmachen auf dem Bergfritzenhof
DESCRIPTION:Liebe Freundinnen und Freunde des Bergfritzenhofs! \nWir laden Euch herzlich ein zum Mitmachen beim Bäume pflanzen und pflegen am Sonntag\, den 1. März bei unserem offenen Aktionstag. \nDies ist eine gute Gelegenheit\, uns zu besuchen\, den Hof und die Gemeinschaft zu erleben und gemeinsam etwas zu rocken. \nStart ist um 10 Uhr\, Ende ca. 17 Uhr. \nEs gibt ein gemeinsames Mittagessen\, zu dem ihr gerne etwas beitragen dürft\, ist aber kein Muss. \nAnmeldung bitte an: info@bergfritzenhof.de.
URL:https://bergfritzenhof.de/event/baumpflanzaktion-zum-mitmachen-auf-dem-bergfritzenhof/
LOCATION:Waldraum e.V.\, Gutenrode 1\, Freiamt\, Baden-Württemberg\, 79348\, Deutschland
ATTACH;FMTTYPE=image/jpeg:https://bergfritzenhof.de/wp-content/uploads/2026/02/IMG_20260202_135712_745.jpg
ORGANIZER;CN="Waldraum e.V.":MAILTO:test test
END:VEVENT
END:VCALENDAR