BEGIN:VCALENDAR
VERSION:2.0
PRODID:-//Der Bergfritzenhof - ECPv6.15.20//NONSGML v1.0//EN
CALSCALE:GREGORIAN
METHOD:PUBLISH
X-WR-CALNAME:Der Bergfritzenhof
X-ORIGINAL-URL:https://bergfritzenhof.de
X-WR-CALDESC:Veranstaltungen für Der Bergfritzenhof
REFRESH-INTERVAL;VALUE=DURATION:PT1H
X-Robots-Tag:noindex
X-PUBLISHED-TTL:PT1H
BEGIN:VTIMEZONE
TZID:UTC
BEGIN:STANDARD
TZOFFSETFROM:+0000
TZOFFSETTO:+0000
TZNAME:UTC
DTSTART:20250101T000000
END:STANDARD
END:VTIMEZONE
BEGIN:VEVENT
DTSTART;TZID=UTC:20260110T093000
DTEND;TZID=UTC:20260110T150000
DTSTAMP:20260419T202146
CREATED:20251223T165503Z
LAST-MODIFIED:20251223T170956Z
UID:1601-1768037400-1768057200@bergfritzenhof.de
SUMMARY:Jedem Anfang wohnt ein Zauber inne...
DESCRIPTION:
URL:https://bergfritzenhof.de/event/jedem-anfang-wohnt-ein-zauber-inne/
LOCATION:Waldraum e.V.\, Gutenrode 1\, Freiamt\, Baden-Württemberg\, 79348\, Deutschland
CATEGORIES:Waldraum-Angebote
ATTACH;FMTTYPE=image/jpeg:https://bergfritzenhof.de/wp-content/uploads/2025/12/Flyer_Zeit-fuer-mich-zum-Jahresbeginn.jpg
ORGANIZER;CN="Waldraum e.V.":MAILTO:test test
END:VEVENT
END:VCALENDAR