BEGIN:VCALENDAR
VERSION:2.0
PRODID:-//Der Bergfritzenhof - ECPv6.15.20//NONSGML v1.0//EN
CALSCALE:GREGORIAN
METHOD:PUBLISH
X-ORIGINAL-URL:https://bergfritzenhof.de
X-WR-CALDESC:Veranstaltungen für Der Bergfritzenhof
REFRESH-INTERVAL;VALUE=DURATION:PT1H
X-Robots-Tag:noindex
X-PUBLISHED-TTL:PT1H
BEGIN:VTIMEZONE
TZID:UTC
BEGIN:STANDARD
TZOFFSETFROM:+0000
TZOFFSETTO:+0000
TZNAME:UTC
DTSTART:20240101T000000
END:STANDARD
END:VTIMEZONE
BEGIN:VEVENT
DTSTART;TZID=UTC:20251128T180000
DTEND;TZID=UTC:20251130T140000
DTSTAMP:20260419T230831
CREATED:20251111T140229Z
LAST-MODIFIED:20251202T123443Z
UID:1563-1764352800-1764511200@bergfritzenhof.de
SUMMARY:"Krise und Du" - Regenerativ engagiert
DESCRIPTION:⁨📣 🌳🧘🌳 Liebe Menschen aus dem Klima- und Naturschutz in Freiburg u.U.! 🌳 🧘🏽🌳 📣 \nVielleicht kennst du das: Überforderung\, persönliche Sinnkrisen („Was bringt das alles?“) oder einfach Hoffnungslosigkeit angesichts all der Krisen um uns herum sind typische Phasen\, die uns in unserem Engagement immer wieder überfallen (also ich kenne alle davon:-). \nWie schaffen wir es\, FREUDIG und REGENERATIV langfristig engagiert zu sein? \nGenau dafür haben Sonja und Tobias das Seminar „Krise & Du: Nachhaltig engagiert“ konzipiert\, das jetzt zum 7. Mal stattfindet: Ein Wochenende\, um gemeinsam mit anderen unseren Gefühlen Raum zu geben und dabei neue Motivation und Kraft zu tanken. Momente des Innehaltens und Regenerierens. Und Methoden\, um mit Emotionen und Überforderung auch im Alltag besser umzugehen. \nDas Wochenende ist sehr persönlich und befreiend und raumschaffend für neue Kraft. \nWann & Wo? Am 28.-30.11. in am wunderschönen Bergfritzenhof in Freiamt bei Freiburg. – Die Anmeldung läuft jetzt bis 14.11. (je früher desto besser; wir behalten uns vor\, die Gruppe zu begrenzen)! – Vielleicht willst du auch zu zweit oder mit deiner Engagierten-Gruppe teilnehmen? \nWer sind wir? Tobias März (Klimaaktivist\, Solar-Ingenieur\, Seminarleiter\, Gemeinschaftsgründer) und Sonja Blaser (Landschaftsgestalterin\, Moderatorin und Mediatorin) \nWarum solltest du teilnehmen? Ich (Tobias) war die letzten Monate Teil einer Trauergruppe in Freiburg\, die ich mitinitiiert hatte und wo es um das Trauern in Bezug auf die Klimakrise ging. Und es war so beeindruckend\, wie viel Freude und Verbundenheit und Kraft-Schöpfen dort entsteht\, wo wir solch einen vertrauten Raum mit Gleichgesinnten erschaffen! – Schenke dir selbst diesen Raum des Auftankens mit anderen engagierten Menschen und melde dich jetzt an für das Seminar. \nAlle Infos & Anmeldung: https://www.tobiasmaerz.de/krise-und-du-freiamt-2025 \nOrganisatorisches: \n\nDas Seminar wird auf Spenden-Basis angeboten\nEssen: Gemeinschaftlich organisiert\nÜbernachtung: Vor Ort
URL:https://bergfritzenhof.de/event/krise-und-du-regenerativ-engagiert/
CATEGORIES:Waldraum-Angebote
ATTACH;FMTTYPE=image/png:https://bergfritzenhof.de/wp-content/uploads/2025/11/card0_klimakrise_und_du-2.png
END:VEVENT
END:VCALENDAR