BEGIN:VCALENDAR
VERSION:2.0
PRODID:-//Der Bergfritzenhof - ECPv6.15.20//NONSGML v1.0//EN
CALSCALE:GREGORIAN
METHOD:PUBLISH
X-ORIGINAL-URL:https://bergfritzenhof.de
X-WR-CALDESC:Veranstaltungen für Der Bergfritzenhof
REFRESH-INTERVAL;VALUE=DURATION:PT1H
X-Robots-Tag:noindex
X-PUBLISHED-TTL:PT1H
BEGIN:VTIMEZONE
TZID:UTC
BEGIN:STANDARD
TZOFFSETFROM:+0000
TZOFFSETTO:+0000
TZNAME:UTC
DTSTART:20240101T000000
END:STANDARD
END:VTIMEZONE
BEGIN:VEVENT
DTSTART;TZID=UTC:20251123T180000
DTEND;TZID=UTC:20251123T203000
DTSTAMP:20260419T230957
CREATED:20251111T131435Z
LAST-MODIFIED:20251202T123443Z
UID:1556-1763920800-1763929800@bergfritzenhof.de
SUMMARY:"Über den Tod" am 23.11.\, 18:00
DESCRIPTION:Am Sonntag den 23. November\, 18:00\, gibt es eine kleine\, sweete Veranstaltung bei uns – eine Geschichten Erzählerin kommt … aber nicht für Kinder\, sondern für Erwachsene (beziehungsweise für alle ab 12 ): Geschichten über den Tod:\nhttps://kathinkamarcks.com/auf-wiedersehen-tod/ -kommt gerne\, bringt eure Lieben mit und wenn ihr wollt verweilt im Anschluss noch bei der Getränkebar! \n 
URL:https://bergfritzenhof.de/event/ueber-den-tod-am-23-11-1800/
CATEGORIES:Waldraum-Angebote
ATTACH;FMTTYPE=image/jpeg:https://bergfritzenhof.de/wp-content/uploads/2025/11/photo_2025-11-11-14.11.19.jpeg
END:VEVENT
END:VCALENDAR