BEGIN:VCALENDAR
VERSION:2.0
PRODID:-//Der Bergfritzenhof - ECPv6.15.20//NONSGML v1.0//EN
CALSCALE:GREGORIAN
METHOD:PUBLISH
X-ORIGINAL-URL:https://bergfritzenhof.de
X-WR-CALDESC:Veranstaltungen für Der Bergfritzenhof
REFRESH-INTERVAL;VALUE=DURATION:PT1H
X-Robots-Tag:noindex
X-PUBLISHED-TTL:PT1H
BEGIN:VTIMEZONE
TZID:UTC
BEGIN:STANDARD
TZOFFSETFROM:+0000
TZOFFSETTO:+0000
TZNAME:UTC
DTSTART:20240101T000000
END:STANDARD
END:VTIMEZONE
BEGIN:VEVENT
DTSTART;TZID=UTC:20250510T100000
DTEND;TZID=UTC:20250510T190000
DTSTAMP:20260420T074504
CREATED:20250131T123517Z
LAST-MODIFIED:20251202T123443Z
UID:1492-1746871200-1746903600@bergfritzenhof.de
SUMMARY:Deine Berufung - Dein Weg
DESCRIPTION:Wohin geht mein Weg? Was will ich wirklich?\nWie finde ich den Beruf\, der zu mir passt? \nIn dem Seminar begleite ich Dich dabei\, \n\nDeine Stärken und Begabungen zu erforschen.\nDein Potenzial zu entdecken.\neine für Dich stimmige Richtung zu finden.\n\nIch zeige Dir Wege\, wie Du \n\nDeine Begeisterung weckst.\nDeine Motivation stärkst.\nDeine Persönlichkeit im beruflichen Kontext entfaltest.\n\nDie Gruppe \n\ninspiriert und unterstützt Dich.\nbegegnet Dir respektvoll und wertschätzend.\nbildet ein kraftvolles Netzwerk für Deinen Weg nach dem Seminar.\n\nThemen des Seminars \n\nBegeisterung\nMotivation und Werte\nStärken und Fähigkeiten\nPersönlichkeitstypen und Teamrollen\nIdeenschmiede für Deine Berufung\nZiele und konkrete Schritte zur Umsetzung\nVernetzung nach dem Seminar\n\nSeminargebühr: \n140 – 220 € nach Selbsteinschätzung \nWeitere Infos unter: \n \nAnmeldung unter: \ninfo@isabellneu.de
URL:https://bergfritzenhof.de/event/deine-berufung-dein-weg-4/
LOCATION:Waldraum e.V.\, Gutenrode 1\, Freiamt\, Baden-Württemberg\, 79348\, Deutschland
CATEGORIES:Waldraum-Angebote
ATTACH;FMTTYPE=image/jpeg:https://bergfritzenhof.de/wp-content/uploads/2025/01/Berufung1.jpg
END:VEVENT
END:VCALENDAR